BEGIN:VCALENDAR
VERSION:2.0
PRODID:-//ChamberMaster//Event Calendar 2.0//EN
METHOD:PUBLISH
X-PUBLISHED-TTL:P3D
REFRESH-INTERVAL:P3D
CALSCALE:GREGORIAN
BEGIN:VEVENT
DTSTART:20260616T150000Z
DTEND:20260616T223000Z
X-MICROSOFT-CDO-ALLDAYEVENT:FALSE
SUMMARY:ACEC-WSDOT Annual Joint Meeting 2026
DESCRIPTION:2026 ACEC WSDOT Joint Meeting\n\nConnecting Industry. Strengthening Partnerships. Moving Washington Forward.\n\nJoin us for a full day of meaningful conversation\, practical insights\, and high-value networking at the 2026 ACEC WSDOT Joint Meeting.\n\nThis annual gathering brings together leaders from private industry and the Washington State Department of Transportation to strengthen relationships\, align priorities\, and advance the delivery of transportation projects across Washington State.\n\nMore than just a meeting\, this is where connections happen where you can engage directly with decision-makers\, reconnect with peers\, and build new relationships that support better project outcomes across our region.\n\nYou'll hear timely updates and perspectives from both ACEC and WSDOT leadership\, covering the issues\, opportunities\, and innovations shaping our industry today. Expect thoughtful dialogue\, shared insights\, and real-world takeaways you can bring back to your team.\n\nWhy attend?\n\n\n	Connect directly with industry and WSDOT leaders\n	Strengthen relationships that impact your projects\n	Gain insights on current priorities and emerging trends\n	Be part of the conversations driving Washington's infrastructure forward\n\n\nAgenda: Coming soon\n\nPlease note: The agenda is tentative and subject to change. Session topics\, speakers\, and timing may be updated.\n\nDon't miss this opportunity to be part of one of the most impactful conversations in Washington's AEC community.
X-ALT-DESC;FMTTYPE=text/html:<p data-end="242" data-start="129"><span style="font-size:18px\;"><strong data-end="162" data-start="129">2026 ACEC&ndash\;WSDOT Joint Meeting</strong><br data-end="165" data-start="162" />\n<em data-end="242" data-start="165">Connecting Industry. Strengthening Partnerships. Moving Washington Forward.</em></span></p>\n\n<p data-end="378" data-start="244"><span style="font-size:18px\;">Join us for a full day of meaningful conversation\, practical insights\, and high-value networking at the 2026 ACEC&ndash\;WSDOT Joint Meeting.</span></p>\n\n<p data-end="617" data-start="380"><span style="font-size:18px\;">This annual gathering brings together leaders from private industry and the <span class="hover:entity-accent entity-underline inline cursor-pointer align-baseline">Washington State Department of Transportation</span> to strengthen relationships\, align priorities\, and advance the delivery of transportation projects across Washington State.</span></p>\n\n<p data-end="835" data-start="619"><span style="font-size:18px\;">More than just a meeting\, this is where connections happen&mdash\;where you can engage directly with decision-makers\, reconnect with peers\, and build new relationships that support better project outcomes across our region.</span></p>\n\n<p data-end="1100" data-start="837"><span style="font-size:18px\;">You&rsquo\;ll hear timely updates and perspectives from both ACEC and WSDOT leadership\, covering the issues\, opportunities\, and innovations shaping our industry today. Expect thoughtful dialogue\, shared insights\, and real-world takeaways you can bring back to your team.</span></p>\n\n<p data-end="1119" data-start="1102"><span style="font-size:18px\;"><strong data-end="1117" data-start="1102">Why attend?</strong></span></p>\n\n<ul data-end="1364" data-start="1120">\n	<li data-end="1172" data-section-id="25q5hq" data-start="1120"><span style="font-size:18px\;">Connect directly with industry and WSDOT leaders</span></li>\n	<li data-end="1227" data-section-id="12nfsgd" data-start="1173"><span style="font-size:18px\;">Strengthen relationships that impact your projects</span></li>\n	<li data-end="1287" data-section-id="3vyvmx" data-start="1228"><span style="font-size:18px\;">Gain insights on current priorities and emerging trends</span></li>\n	<li data-end="1364" data-section-id="1xgekcx" data-start="1288"><span style="font-size:18px\;">Be part of the conversations driving Washington&rsquo\;s infrastructure forward</span></li>\n</ul>\n\n<p data-end="1506" data-start="1366"><span style="font-size:18px\;"><strong data-end="1377" data-start="1366">Agenda:</strong> Coming soon<br data-end="1392" data-start="1389" />\n<em data-end="1506" data-start="1392">Please note: The agenda is tentative and subject to change. Session topics\, speakers\, and timing may be updated.</em></span></p>\n\n<p data-end="1620" data-start="1508"><span style="font-size:18px\;">Don&rsquo\;t miss this opportunity to be part of one of the most impactful conversations in Washington&rsquo\;s AEC community.</span></p>\n\n<p data-end="332" data-start="158"><br />\n&nbsp\;</p>\n<scribe-shadow data-crx="ejommccbnocgekjphflienmbmkallcef" id="crxjs-ext" style="position: fixed\; width: 0px\; height: 0px\; top: 0px\; left: 0px\; z-index: 2147483647\; overflow: visible\; visibility: visible\;"></scribe-shadow>
LOCATION:Hotel Murano 1320 Broadway Tacoma\, WA 98402
UID:e.9303.424
SEQUENCE:3
DTSTAMP:20260420T193720Z
URL:https://business.acec-wa.org/events/details/acec-wsdot-annual-joint-meeting-2026-424
END:VEVENT

END:VCALENDAR
